BEGIN:VCALENDAR
VERSION:2.0
PRODID:-//Loretta Bates - ECPv6.15.20//NONSGML v1.0//EN
CALSCALE:GREGORIAN
METHOD:PUBLISH
X-ORIGINAL-URL:https://lorettabates.com
X-WR-CALDESC:Events for Loretta Bates
REFRESH-INTERVAL;VALUE=DURATION:PT1H
X-Robots-Tag:noindex
X-PUBLISHED-TTL:PT1H
BEGIN:VTIMEZONE
TZID:America/New_York
BEGIN:DAYLIGHT
TZOFFSETFROM:-0500
TZOFFSETTO:-0400
TZNAME:EDT
DTSTART:20250309T070000
END:DAYLIGHT
BEGIN:STANDARD
TZOFFSETFROM:-0400
TZOFFSETTO:-0500
TZNAME:EST
DTSTART:20251102T060000
END:STANDARD
BEGIN:DAYLIGHT
TZOFFSETFROM:-0500
TZOFFSETTO:-0400
TZNAME:EDT
DTSTART:20260308T070000
END:DAYLIGHT
BEGIN:STANDARD
TZOFFSETFROM:-0400
TZOFFSETTO:-0500
TZNAME:EST
DTSTART:20261101T060000
END:STANDARD
BEGIN:DAYLIGHT
TZOFFSETFROM:-0500
TZOFFSETTO:-0400
TZNAME:EDT
DTSTART:20270314T070000
END:DAYLIGHT
BEGIN:STANDARD
TZOFFSETFROM:-0400
TZOFFSETTO:-0500
TZNAME:EST
DTSTART:20271107T060000
END:STANDARD
END:VTIMEZONE
BEGIN:VEVENT
DTSTART;TZID=America/New_York:20260524T110000
DTEND;TZID=America/New_York:20260524T130000
DTSTAMP:20260423T172438
CREATED:20251209T221238Z
LAST-MODIFIED:20260319T161417Z
UID:33267-1779620400-1779627600@lorettabates.com
SUMMARY:ZUMBA® MASTERCLASS - PANAMA
DESCRIPTION:Join the Ultimate Zumba® Master Class with Loretta Bates! \nGet ready to dance\, sweat\, and smile with international Zumba® sensation Loretta Bates! This high-energy master class combines electrifying music\, dynamic choreography\, and Loretta’s signature motivational style to create an unforgettable fitness experience. All levels are welcome — come as you are and leave inspired\, empowered\, and energized
URL:https://lorettabates.com/event/zumba-masterclass-panama/
LOCATION:Ciudad de Saber\, Piscina de Ciudad del Saber\, CD del saber\, Provincia de Panamá\, Panama
CATEGORIES:FITNESS BELLYDANCE with LORETTA BATES,ZUMBA® MASTER CLASS
ATTACH;FMTTYPE=image/webp:https://lorettabates.com/wp-content/uploads/2025/12/panama-city.webp
END:VEVENT
BEGIN:VEVENT
DTSTART;VALUE=DATE:20260816
DTEND;VALUE=DATE:20260817
DTSTAMP:20260423T172438
CREATED:20251209T224009Z
LAST-MODIFIED:20260319T160542Z
UID:33272-1786838400-1786924799@lorettabates.com
SUMMARY:ZUMBA® MASTERCLASS - NEW JERSEY
DESCRIPTION:Join the Ultimate Zumba® Master Class with Loretta Bates! \nGet ready to dance\, sweat\, and smile with international Zumba® sensation Loretta Bates! This high-energy master class combines electrifying music\, dynamic choreography\, and Loretta’s signature motivational style to create an unforgettable fitness experience. All levels are welcome — come as you are and leave inspired\, empowered\, and energized
URL:https://lorettabates.com/event/zumba-masterclass-new-jersey/
CATEGORIES:FITNESS BELLYDANCE with LORETTA BATES,ZUMBA® MASTER CLASS
ATTACH;FMTTYPE=image/webp:https://lorettabates.com/wp-content/uploads/2025/12/newark-new-jersey-skyline.webp
ORGANIZER;CN="Jolenz Laroco":MAILTO:joliza.pucci@verizon.net
END:VEVENT
END:VCALENDAR