BEGIN:VCALENDAR
VERSION:2.0
PRODID:-//Loretta Bates - ECPv6.15.20//NONSGML v1.0//EN
CALSCALE:GREGORIAN
METHOD:PUBLISH
X-ORIGINAL-URL:https://lorettabates.com
X-WR-CALDESC:Events for Loretta Bates
REFRESH-INTERVAL;VALUE=DURATION:PT1H
X-Robots-Tag:noindex
X-PUBLISHED-TTL:PT1H
BEGIN:VTIMEZONE
TZID:America/New_York
BEGIN:DAYLIGHT
TZOFFSETFROM:-0500
TZOFFSETTO:-0400
TZNAME:EDT
DTSTART:20250309T070000
END:DAYLIGHT
BEGIN:STANDARD
TZOFFSETFROM:-0400
TZOFFSETTO:-0500
TZNAME:EST
DTSTART:20251102T060000
END:STANDARD
BEGIN:DAYLIGHT
TZOFFSETFROM:-0500
TZOFFSETTO:-0400
TZNAME:EDT
DTSTART:20260308T070000
END:DAYLIGHT
BEGIN:STANDARD
TZOFFSETFROM:-0400
TZOFFSETTO:-0500
TZNAME:EST
DTSTART:20261101T060000
END:STANDARD
BEGIN:DAYLIGHT
TZOFFSETFROM:-0500
TZOFFSETTO:-0400
TZNAME:EDT
DTSTART:20270314T070000
END:DAYLIGHT
BEGIN:STANDARD
TZOFFSETFROM:-0400
TZOFFSETTO:-0500
TZNAME:EST
DTSTART:20271107T060000
END:STANDARD
END:VTIMEZONE
BEGIN:VEVENT
DTSTART;VALUE=DATE:20260530
DTEND;VALUE=DATE:20260531
DTSTAMP:20260423T171639
CREATED:20260319T162826Z
LAST-MODIFIED:20260319T162950Z
UID:50874-1780099200-1780185599@lorettabates.com
SUMMARY:SCANDINAVIAN ZUMBA PARTY\, DENMARK
DESCRIPTION:Welcome to the Scandinavian ZUMBA Party – The greatest one day Zumba event in Europe! Featuring 9 Masterclasses and 7 hours of nonstop Zumba with the most amazing presenters; including LORETTA! All levels are welcome — come as you are and leave inspired\, empowered\, and energized!
URL:https://lorettabates.com/event/scandinavian-zumba-party-denmark/
LOCATION:Lyngehallen Sportshal\, Idrætsvej 14\,\, Lynge\, Hovedstaden\, 3540\, Denmark
CATEGORIES:SPECIAL EVENT,ZUMBA® MASTER CLASS
ATTACH;FMTTYPE=image/png:https://lorettabates.com/wp-content/uploads/2026/03/スクリーンショット-581.png
ORGANIZER;CN="Happy Frank":MAILTO:happy.frank@hotmail.com
END:VEVENT
END:VCALENDAR