BEGIN:VCALENDAR
VERSION:2.0
PRODID:-//Loretta Bates - ECPv6.15.20//NONSGML v1.0//EN
CALSCALE:GREGORIAN
METHOD:PUBLISH
X-WR-CALNAME:Loretta Bates
X-ORIGINAL-URL:https://lorettabates.com
X-WR-CALDESC:Events for Loretta Bates
REFRESH-INTERVAL;VALUE=DURATION:PT1H
X-Robots-Tag:noindex
X-PUBLISHED-TTL:PT1H
BEGIN:VTIMEZONE
TZID:America/New_York
BEGIN:DAYLIGHT
TZOFFSETFROM:-0500
TZOFFSETTO:-0400
TZNAME:EDT
DTSTART:20250309T070000
END:DAYLIGHT
BEGIN:STANDARD
TZOFFSETFROM:-0400
TZOFFSETTO:-0500
TZNAME:EST
DTSTART:20251102T060000
END:STANDARD
BEGIN:DAYLIGHT
TZOFFSETFROM:-0500
TZOFFSETTO:-0400
TZNAME:EDT
DTSTART:20260308T070000
END:DAYLIGHT
BEGIN:STANDARD
TZOFFSETFROM:-0400
TZOFFSETTO:-0500
TZNAME:EST
DTSTART:20261101T060000
END:STANDARD
BEGIN:DAYLIGHT
TZOFFSETFROM:-0500
TZOFFSETTO:-0400
TZNAME:EDT
DTSTART:20270314T070000
END:DAYLIGHT
BEGIN:STANDARD
TZOFFSETFROM:-0400
TZOFFSETTO:-0500
TZNAME:EST
DTSTART:20271107T060000
END:STANDARD
END:VTIMEZONE
BEGIN:VEVENT
DTSTART;TZID=America/New_York:20260503T080000
DTEND;TZID=America/New_York:20260503T160000
DTSTAMP:20260423T183115
CREATED:20251209T171449Z
LAST-MODIFIED:20251209T172741Z
UID:33216-1777795200-1777824000@lorettabates.com
SUMMARY:ZUMBA® BASIC 1 TRAINING HOLLYWOOD FLORIDA
DESCRIPTION:Become a Zumba® Instructor with Loretta Bates! \nTake the first step toward leading your own classes with one of the world’s top Zumba® icons\, Loretta Bates! This full-day training will equip you with the skills\, tools\, and confidence to start your journey as a licensed Zumba® Instructor. Get ready to learn\, dance\, connect\, and be inspired — your future in fitness starts here!
URL:https://lorettabates.com/event/zumba-basic-1-training-hollywood-florida/
LOCATION:Greater Hollywood YMCA Family Center\, 3161 Taft St\, Hollywood\, FL\, 33021\, United States
CATEGORIES:ZUMBA® INSTRUCTOR TRAINING
ATTACH;FMTTYPE=image/webp:https://lorettabates.com/wp-content/uploads/2025/12/Hollywood-Beach-Shops.webp
ORGANIZER;CN="Loretta Bates":MAILTO:loretta.bates@zumbamail.com
END:VEVENT
BEGIN:VEVENT
DTSTART;TZID=America/New_York:20260614T110000
DTEND;TZID=America/New_York:20260614T190000
DTSTAMP:20260423T183115
CREATED:20251209T174639Z
LAST-MODIFIED:20251209T174639Z
UID:33231-1781434800-1781463600@lorettabates.com
SUMMARY:ZUMBA® BASIC 1 TRAINING PORT CHARLOTTE FLORIDA
DESCRIPTION:Become a Zumba® Instructor with Loretta Bates! \nTake the first step toward leading your own classes with one of the world’s top Zumba® icons\, Loretta Bates! This full-day training will equip you with the skills\, tools\, and confidence to start your journey as a licensed Zumba® Instructor. Get ready to learn\, dance\, connect\, and be inspired — your future in fitness starts here!
URL:https://lorettabates.com/event/zumba-basic-1-training-port-charlotte-florida/
LOCATION:YMCA of Southwest Florida- Franz Ross Branch\, 19333 Quesada Ave.\, Port Charlotte\, FL\, 33948\, United States
CATEGORIES:ZUMBA® INSTRUCTOR TRAINING
ATTACH;FMTTYPE=image/webp:https://lorettabates.com/wp-content/uploads/2025/12/8dd7dd19b02eb7a63c547c4e353c5931.webp
ORGANIZER;CN="Loretta Bates":MAILTO:loretta.bates@zumbamail.com
END:VEVENT
BEGIN:VEVENT
DTSTART;TZID=America/New_York:20260719T090000
DTEND;TZID=America/New_York:20260719T170000
DTSTAMP:20260423T183115
CREATED:20251209T174031Z
LAST-MODIFIED:20251209T174031Z
UID:33228-1784451600-1784480400@lorettabates.com
SUMMARY:ZUMBA® BASIC 1 TRAINING MIAMI FLORIDA
DESCRIPTION:Become a Zumba® Instructor with Loretta Bates! \nTake the first step toward leading your own classes with one of the world’s top Zumba® icons\, Loretta Bates! This full-day training will equip you with the skills\, tools\, and confidence to start your journey as a licensed Zumba® Instructor. Get ready to learn\, dance\, connect\, and be inspired — your future in fitness starts here!
URL:https://lorettabates.com/event/zumba-basic-1-training-miami-florida-2/
LOCATION:On Beat Studio\, 529 SW 12 Ave.\, Miami\, FL\, 33130\, United States
CATEGORIES:ZUMBA® INSTRUCTOR TRAINING
ATTACH;FMTTYPE=image/webp:https://lorettabates.com/wp-content/uploads/2025/12/miami-downtown-at-night.webp
ORGANIZER;CN="Loretta Bates":MAILTO:loretta.bates@zumbamail.com
END:VEVENT
BEGIN:VEVENT
DTSTART;TZID=America/New_York:20260823T080000
DTEND;TZID=America/New_York:20260823T160000
DTSTAMP:20260423T183115
CREATED:20251209T173636Z
LAST-MODIFIED:20251209T173636Z
UID:33224-1787472000-1787500800@lorettabates.com
SUMMARY:ZUMBA® BASIC 1 TRAINING HALLENDALE BEACH FLORIDA
DESCRIPTION:Become a Zumba® Instructor with Loretta Bates! \nTake the first step toward leading your own classes with one of the world’s top Zumba® icons\, Loretta Bates! This full-day training will equip you with the skills\, tools\, and confidence to start your journey as a licensed Zumba® Instructor. Get ready to learn\, dance\, connect\, and be inspired — your future in fitness starts here!
URL:https://lorettabates.com/event/zumba-basic-1-training-hallendale-beach-florida/
LOCATION:Hallandale Beach YMCA\, Peter Bluesten Park\, 501 SE 1st Ave\, Hallendale Beach\, FL\, 33009\, United States
CATEGORIES:ZUMBA® INSTRUCTOR TRAINING
ATTACH;FMTTYPE=image/webp:https://lorettabates.com/wp-content/uploads/2025/12/colorful-art-deco-hotels-on-ocean-drive-in-miami-beach-glow-under-the-warm-hues-of-a-vibrant.webp
ORGANIZER;CN="Loretta Bates":MAILTO:loretta.bates@zumbamail.com
END:VEVENT
BEGIN:VEVENT
DTSTART;TZID=America/New_York:20261206T080000
DTEND;TZID=America/New_York:20261206T160000
DTSTAMP:20260423T183115
CREATED:20251209T175244Z
LAST-MODIFIED:20251209T175244Z
UID:33235-1796544000-1796572800@lorettabates.com
SUMMARY:ZUMBA® BASIC 1 TRAINING MIAMI FLORIDA
DESCRIPTION:Become a Zumba® Instructor with Loretta Bates! \nTake the first step toward leading your own classes with one of the world’s top Zumba® icons\, Loretta Bates! This full-day training will equip you with the skills\, tools\, and confidence to start your journey as a licensed Zumba® Instructor. Get ready to learn\, dance\, connect\, and be inspired — your future in fitness starts here!
URL:https://lorettabates.com/event/zumba-basic-1-training-miami-florida-3/
LOCATION:South Dade YMCA Family Center\, 9355 SW 134th St\, Miami\, FL\, 33176\, United States
CATEGORIES:ZUMBA® INSTRUCTOR TRAINING
ATTACH;FMTTYPE=image/webp:https://lorettabates.com/wp-content/uploads/2025/12/miami-downtown-at-night.webp
ORGANIZER;CN="Loretta Bates":MAILTO:loretta.bates@zumbamail.com
END:VEVENT
END:VCALENDAR