BEGIN:VCALENDAR
VERSION:2.0
PRODID:-//Loretta Bates - ECPv6.15.20//NONSGML v1.0//EN
CALSCALE:GREGORIAN
METHOD:PUBLISH
X-WR-CALNAME:Loretta Bates
X-ORIGINAL-URL:https://lorettabates.com
X-WR-CALDESC:Events for Loretta Bates
REFRESH-INTERVAL;VALUE=DURATION:PT1H
X-Robots-Tag:noindex
X-PUBLISHED-TTL:PT1H
BEGIN:VTIMEZONE
TZID:America/New_York
BEGIN:DAYLIGHT
TZOFFSETFROM:-0500
TZOFFSETTO:-0400
TZNAME:EDT
DTSTART:20250309T070000
END:DAYLIGHT
BEGIN:STANDARD
TZOFFSETFROM:-0400
TZOFFSETTO:-0500
TZNAME:EST
DTSTART:20251102T060000
END:STANDARD
BEGIN:DAYLIGHT
TZOFFSETFROM:-0500
TZOFFSETTO:-0400
TZNAME:EDT
DTSTART:20260308T070000
END:DAYLIGHT
BEGIN:STANDARD
TZOFFSETFROM:-0400
TZOFFSETTO:-0500
TZNAME:EST
DTSTART:20261101T060000
END:STANDARD
BEGIN:DAYLIGHT
TZOFFSETFROM:-0500
TZOFFSETTO:-0400
TZNAME:EDT
DTSTART:20270314T070000
END:DAYLIGHT
BEGIN:STANDARD
TZOFFSETFROM:-0400
TZOFFSETTO:-0500
TZNAME:EST
DTSTART:20271107T060000
END:STANDARD
END:VTIMEZONE
BEGIN:VEVENT
DTSTART;VALUE=DATE:20260425
DTEND;VALUE=DATE:20260426
DTSTAMP:20260423T170247
CREATED:20250925T161314Z
LAST-MODIFIED:20251006T183555Z
UID:32320-1777075200-1777161599@lorettabates.com
SUMMARY:ZUMBA® MASTERCLASS TEMECULA\, CALIFORNIA
DESCRIPTION:Join the Ultimate Zumba® Master Class with Loretta Bates! \nGet ready to dance\, sweat\, and smile with international Zumba® sensation Loretta Bates! This high-energy master class combines electrifying music\, dynamic choreography\, and Loretta’s signature motivational style to create an unforgettable fitness experience. All levels are welcome — come as you are and leave inspired\, empowered\, and energized!
URL:https://lorettabates.com/event/zumba-masterclass-temecula-california/
LOCATION:Hovedstaden
CATEGORIES:ZUMBA® MASTER CLASS
ATTACH;FMTTYPE=image/jpeg:https://lorettabates.com/wp-content/uploads/2025/09/temecula-city-hall-in-the-wine-country-ca-picture-id514423680-4227904734.jpg
END:VEVENT
BEGIN:VEVENT
DTSTART;VALUE=DATE:20260426
DTEND;VALUE=DATE:20260427
DTSTAMP:20260423T170247
CREATED:20250925T153150Z
LAST-MODIFIED:20260123T171012Z
UID:32309-1777161600-1777247999@lorettabates.com
SUMMARY:ZUMBA® MASTERCLASS PHOENIX\, ARIZONA
DESCRIPTION:Join the Ultimate Zumba® Master Class with Loretta Bates! \nGet ready to dance\, sweat\, and smile with international Zumba® sensation Loretta Bates! This high-energy master class combines electrifying music\, dynamic choreography\, and Loretta’s signature motivational style to create an unforgettable fitness experience. All levels are welcome — come as you are and leave inspired\, empowered\, and energized!
URL:https://lorettabates.com/event/zumba-masterclass-phoenix-arizona/
LOCATION:Hovedstaden
CATEGORIES:ZUMBA® MASTER CLASS
ATTACH;FMTTYPE=image/jpeg:https://lorettabates.com/wp-content/uploads/2025/09/1012571-midtown-phoenix-arizona-3729336375.jpg
END:VEVENT
END:VCALENDAR