BEGIN:VCALENDAR
VERSION:2.0
PRODID:-//Loretta Bates - ECPv6.15.20//NONSGML v1.0//EN
CALSCALE:GREGORIAN
METHOD:PUBLISH
X-ORIGINAL-URL:https://lorettabates.com
X-WR-CALDESC:Events for Loretta Bates
REFRESH-INTERVAL;VALUE=DURATION:PT1H
X-Robots-Tag:noindex
X-PUBLISHED-TTL:PT1H
BEGIN:VTIMEZONE
TZID:America/New_York
BEGIN:DAYLIGHT
TZOFFSETFROM:-0500
TZOFFSETTO:-0400
TZNAME:EDT
DTSTART:20250309T070000
END:DAYLIGHT
BEGIN:STANDARD
TZOFFSETFROM:-0400
TZOFFSETTO:-0500
TZNAME:EST
DTSTART:20251102T060000
END:STANDARD
BEGIN:DAYLIGHT
TZOFFSETFROM:-0500
TZOFFSETTO:-0400
TZNAME:EDT
DTSTART:20260308T070000
END:DAYLIGHT
BEGIN:STANDARD
TZOFFSETFROM:-0400
TZOFFSETTO:-0500
TZNAME:EST
DTSTART:20261101T060000
END:STANDARD
BEGIN:DAYLIGHT
TZOFFSETFROM:-0500
TZOFFSETTO:-0400
TZNAME:EDT
DTSTART:20270314T070000
END:DAYLIGHT
BEGIN:STANDARD
TZOFFSETFROM:-0400
TZOFFSETTO:-0500
TZNAME:EST
DTSTART:20271107T060000
END:STANDARD
END:VTIMEZONE
BEGIN:VEVENT
DTSTART;TZID=America/New_York:20260419T143000
DTEND;TZID=America/New_York:20260419T170000
DTSTAMP:20260423T164634
CREATED:20260316T170908Z
LAST-MODIFIED:20260319T155923Z
UID:50668-1776609000-1776618000@lorettabates.com
SUMMARY:ZUMBA® MASTERCLASS SHIZUOKA\, JAPAN
DESCRIPTION:japJoin the Ultimate Zumba® Master Class with Loretta Bates! \nGet ready to dance\, sweat\, and smile with international Zumba® sensation Loretta Bates! This high-energy master class combines electrifying music\, dynamic choreography\, and Loretta’s signature motivational style to create an unforgettable fitness experience. All levels are welcome — come as you are and leave inspired\, empowered\, and energized!
URL:https://lorettabates.com/event/zumba-masterclass-shizuoka-japan/
LOCATION:Susono City Cultural Center\, Shizuoka Susono-shi Ishiwaki 586\, Shizuoka\, Susono\, 410-1117\, Japan
CATEGORIES:ZUMBA® MASTER CLASS
ATTACH;FMTTYPE=image/jpeg:https://lorettabates.com/wp-content/uploads/2026/03/Views-from-Nihondaira-1536x1024-3178310449.jpg
ORGANIZER;CN="Tammy Subaru":MAILTO:tammysubaru@gmail.com
END:VEVENT
BEGIN:VEVENT
DTSTART;TZID=America/New_York:20260418T180000
DTEND;TZID=America/New_York:20260418T190000
DTSTAMP:20260423T164634
CREATED:20260316T170332Z
LAST-MODIFIED:20260319T161429Z
UID:50656-1776535200-1776538800@lorettabates.com
SUMMARY:ZUMBA® MASTERCLASS TOKYO\, JAPAN
DESCRIPTION:Join the Ultimate Zumba® Master Class with Loretta Bates! \nGet ready to dance\, sweat\, and smile with international Zumba® sensation Loretta Bates! This high-energy master class combines electrifying music\, dynamic choreography\, and Loretta’s signature motivational style to create an unforgettable fitness experience. All levels are welcome — come as you are and leave inspired\, empowered\, and energized!
URL:https://lorettabates.com/event/zumba-masterclass-tokyo-japan/
LOCATION:Hovedstaden
CATEGORIES:ZUMBA® MASTER CLASS
ATTACH;FMTTYPE=image/jpeg:https://lorettabates.com/wp-content/uploads/2026/03/19069-3310381206-scaled.jpg
ORGANIZER;CN="Tammy Subaru":MAILTO:tammysubaru@gmail.com
END:VEVENT
BEGIN:VEVENT
DTSTART;TZID=America/New_York:20260413T190000
DTEND;TZID=America/New_York:20260413T200000
DTSTAMP:20260423T164634
CREATED:20260318T175451Z
LAST-MODIFIED:20260319T154517Z
UID:50812-1776106800-1776110400@lorettabates.com
SUMMARY:ZUMBA® MASTERCLASS BORDEAUX\, FRANCE
DESCRIPTION:Join the Ultimate Zumba® Master Class with Loretta Bates! \nGet ready to dance\, sweat\, and smile with international Zumba® sensation Loretta Bates! This high-energy master class combines electrifying music\, dynamic choreography\, and Loretta’s signature motivational style to create an unforgettable fitness experience. All levels are welcome — come as you are and leave inspired\, empowered\, and energized!
URL:https://lorettabates.com/event/bordeaux-france/
LOCATION:17 Rue Ducasse\, 17 Rue Ducasse\, Lège-Cap-Ferret\, Gironde\, 33950\, France
CATEGORIES:ZUMBA® MASTER CLASS
ATTACH;FMTTYPE=image/jpeg:https://lorettabates.com/wp-content/uploads/2026/03/phare-noel-lege-cap-ferret-agence-les-conteurs-4-830x1090-1.jpg
END:VEVENT
BEGIN:VEVENT
DTSTART;TZID=America/New_York:20260408T080000
DTEND;TZID=America/New_York:20260412T170000
DTSTAMP:20260423T164634
CREATED:20260106T201508Z
LAST-MODIFIED:20260106T201508Z
UID:33551-1775635200-1776013200@lorettabates.com
SUMMARY:WELL ESCAPE FRANCE
DESCRIPTION:The WELL Escape has become a sought-after experience\, blending renewal\, inspiration\, and unforgettable beauty. Due to its overwhelming popularity\, we are delighted to expand this journey to Europe—bringing the same elegance\, transformation\, and connection to a setting that is both closer and more accessible for our European community. \nThe Château des Siècles\, originally a fortified stronghold and still encircled by its medieval walls\, sits high above the Burgundian countryside overlooking the waterways of the Yonne River and the Nivernais Canal. Perched on a cliff edge\, the château benefits from unobstructed views stretching for miles around. The estate is accessible through a large electronically-operated gate ensuring complete privacy.
URL:https://lorettabates.com/event/well-escape-france/
LOCATION:Château des Siècles\, Burgandy\, France
ATTACH;FMTTYPE=image/jpeg:https://lorettabates.com/wp-content/uploads/2025/09/d10db0e8-1.jpg
ORGANIZER;CN="Loretta Bates":MAILTO:loretta.bates@zumbamail.com
END:VEVENT
BEGIN:VEVENT
DTSTART;TZID=America/New_York:20260405T160000
DTEND;TZID=America/New_York:20260405T170000
DTSTAMP:20260423T164634
CREATED:20260316T172403Z
LAST-MODIFIED:20260319T154217Z
UID:50672-1775404800-1775408400@lorettabates.com
SUMMARY:ZUMBA® MASTERCLASS NORMANDY\, FRANCE
DESCRIPTION:Join the Ultimate Zumba® Master Class with Loretta Bates! \nGet ready to dance\, sweat\, and smile with international Zumba® sensation Loretta Bates! This high-energy master class combines electrifying music\, dynamic choreography\, and Loretta’s signature motivational style to create an unforgettable fitness experience. All levels are welcome — come as you are and leave inspired\, empowered\, and energized!
URL:https://lorettabates.com/event/dance-experience-normandy-france/
LOCATION:Pole Omni’Sports\, 3 avenue de la République\, DEAUVILLE\, Normandy\, 14800\, France
CATEGORIES:ZUMBA® MASTER CLASS
ATTACH;FMTTYPE=image/jpeg:https://lorettabates.com/wp-content/uploads/2026/03/AHIF-Normandy-1433342206.jpg
ORGANIZER;CN="Stephanie Dolley":MAILTO:stephanie.dolley14@gmail.com
END:VEVENT
BEGIN:VEVENT
DTSTART;VALUE=DATE:20260404
DTEND;VALUE=DATE:20260405
DTSTAMP:20260423T164634
CREATED:20251209T203519Z
LAST-MODIFIED:20251209T203519Z
UID:33256-1775260800-1775347199@lorettabates.com
SUMMARY:ZUMBA® MASTERCLASS PARIS FRANCE
DESCRIPTION:Join the Ultimate Zumba® Master Class with Loretta Bates! \nGet ready to dance\, sweat\, and smile with international Zumba® sensation Loretta Bates! This high-energy master class combines electrifying music\, dynamic choreography\, and Loretta’s signature motivational style to create an unforgettable fitness experience. All levels are welcome — come as you are and leave inspired\, empowered\, and energized!
URL:https://lorettabates.com/event/zumba-masterclass-paris-france/
LOCATION:Hovedstaden
CATEGORIES:ZUMBA® MASTER CLASS
ATTACH;FMTTYPE=image/webp:https://lorettabates.com/wp-content/uploads/2025/12/1125785.webp
END:VEVENT
BEGIN:VEVENT
DTSTART;TZID=America/New_York:20260329T160000
DTEND;TZID=America/New_York:20260329T180000
DTSTAMP:20260423T164634
CREATED:20251209T195229Z
LAST-MODIFIED:20260319T154525Z
UID:33252-1774800000-1774807200@lorettabates.com
SUMMARY:ZUMBA® MASTERCLASS TORONTO\, CANADA
DESCRIPTION:Join the Ultimate Zumba® Master Class with Loretta Bates! \nGet ready to dance\, sweat\, and smile with international Zumba® sensation Loretta Bates! This high-energy master class combines electrifying music\, dynamic choreography\, and Loretta’s signature motivational style to create an unforgettable fitness experience. All levels are welcome — come as you are and leave inspired\, empowered\, and energized!
URL:https://lorettabates.com/event/zumba-masterclass-toronto-canada/
LOCATION:KAMPO @ 12Fifty Event Centre\, 1250 Markham Rd. Scarborough\, Toronto\, Ontario\, Canada
CATEGORIES:ZUMBA® MASTER CLASS
ATTACH;FMTTYPE=image/webp:https://lorettabates.com/wp-content/uploads/2025/12/1412256-1366x2048-iphone-hd-toronto-skyline-wallpaper-image.webp
END:VEVENT
BEGIN:VEVENT
DTSTART;TZID=America/New_York:20260328T190000
DTEND;TZID=America/New_York:20260328T210000
DTSTAMP:20260423T164634
CREATED:20251209T193107Z
LAST-MODIFIED:20260324T211538Z
UID:33247-1774724400-1774731600@lorettabates.com
SUMMARY:ZUMBA® MASTERCLASS MONTREAL CANADA
DESCRIPTION:Join the Ultimate Zumba® Master Class with Loretta Bates! \nGet ready to dance\, sweat\, and smile with international Zumba® sensation Loretta Bates! This high-energy master class combines electrifying music\, dynamic choreography\, and Loretta’s signature motivational style to create an unforgettable fitness experience. All levels are welcome — come as you are and leave inspired\, empowered\, and energized!
URL:https://lorettabates.com/event/zumba-masterclass-montreal-canada/
LOCATION:St. Kevin Hall\, 5600 Chemin de la Cote-des-Neiges\, Montreal\, Quebec\, H3T 1Z1\, Canada
CATEGORIES:MADE MAGNIFICENT SEMINAR,ZUMBA® MASTER CLASS
ATTACH;FMTTYPE=image/webp:https://lorettabates.com/wp-content/uploads/2025/12/1272170.webp
END:VEVENT
END:VCALENDAR